BEGIN:VCALENDAR
VERSION:2.0
PRODID:-//eventon.com NONSGML v1.0//EN
CALSCALE:GREGORIAN
METHOD:PUBLISH
BEGIN:VEVENT
UID:69e735fa8374c
DTSTAMP:20260421T083154Z
DTSTART:20211203T180000Z
DTEND:20211203T225000Z
LOCATION:
SUMMARY:RG Bremen: Weihnachtsfeier
DESCRIPTION:Austausch über das vergangene Jahr. Die Veranstaltung ist offe
 n für alle Mitglieder des Völklinger Kreis. Weitere Informationen unter: 
 bremen(at)vk-online.de\nhttps://www.vk-online.de/events/rg-bremen-weihnacht
 sfeier/
URL:https://www.vk-online.de/events/rg-bremen-weihnachtsfeier/
END:VEVENT
END:VCALENDAR