BEGIN:VCALENDAR
VERSION:2.0
PRODID:-//eventon.com NONSGML v1.0//EN
CALSCALE:GREGORIAN
METHOD:PUBLISH
BEGIN:VEVENT
UID:69e7361b571e3
DTSTAMP:20260421T083227Z
DTSTART:20220902T173000Z
DTEND:20220902T215000Z
LOCATION:
SUMMARY:RG Köln-Bonn und FG Kommunikation: Get-together
DESCRIPTION:Die Regionalgruppe Köln-Bonn und die Fachgruppe Kommunikation 
 laden zum gemeinsamen Austausch nach Köln. Die Veranstaltung ist offen fü
 r alle Mitglieder des Völklinger Kreis. Weitere Informationen unter koeln-
 bonn (at) vk-online/punkt/de oder unter kommunikation (at) vk-online/punkt/
 de.\nhttps://www.vk-online.de/events/rg-koeln-bonn-und-fg-kommunikation-get
 -together/
URL:https://www.vk-online.de/events/rg-koeln-bonn-und-fg-kommunikation-get-together/
END:VEVENT
END:VCALENDAR