BEGIN:VCALENDAR
VERSION:2.0
PRODID:-//eventon.com NONSGML v1.0//EN
CALSCALE:GREGORIAN
METHOD:PUBLISH
BEGIN:VEVENT
UID:69ed8d6651c92
DTSTAMP:20260426T035830Z
DTSTART:20221006T173000Z
DTEND:20221006T215000Z
LOCATION:
SUMMARY:RG Rhein-Neckar: Network-Treffen
DESCRIPTION:Die Regionalgruppe Rhein-Neckar lädt ein zum regelmäßigen Ne
 twork-Treffen. Die Veranstaltung ist offen für alle Mitglieder. Weitere In
 formationen unter rhein-neckar (at) vk-online/punkt/de.\nhttps://www.vk-onl
 ine.de/events/rg-rhein-neckar-network-treffen/
URL:https://www.vk-online.de/events/rg-rhein-neckar-network-treffen/
END:VEVENT
END:VCALENDAR