BEGIN:VCALENDAR
VERSION:2.0
PRODID:-//eventon.com NONSGML v1.0//EN
CALSCALE:GREGORIAN
METHOD:PUBLISH
BEGIN:VEVENT
UID:69ed72b62b42e
DTSTAMP:20260426T020438Z
DTSTART:20221013T170000Z
DTEND:20221013T215000Z
LOCATION:
SUMMARY:RG Nürnberg: Network-Treffen
DESCRIPTION:Die Regionalgruppe Nürnberg lädt ein zum Informationsaustausc
 h und Networking. Die Veranstaltung ist offen für alle Mitglieder des Völ
 klinger Kreis. Weitere Informationen unter nuernberg (at) vk-online/punkt/d
 e. &nbsp; &nbsp;\nhttps://www.vk-online.de/events/rg-nuernberg-network-tref
 fen/
URL:https://www.vk-online.de/events/rg-nuernberg-network-treffen/
END:VEVENT
END:VCALENDAR