BEGIN:VCALENDAR
VERSION:2.0
PRODID:-//eventon.com NONSGML v1.0//EN
CALSCALE:GREGORIAN
METHOD:PUBLISH
BEGIN:VEVENT
UID:69ed5c1a72b32
DTSTAMP:20260426T002810Z
DTSTART:20221102T190000Z
DTEND:20221102T225000Z
LOCATION:
SUMMARY:RG Düsseldorf: Jour Fixe
DESCRIPTION:Die Regionalgruppe Düsseldorf lädt zum regelmäßigen Informa
 tionsaustausch und Networking. Die Veranstaltung ist offen für alle Mitgli
 eder. Weitere Informationen unter duesseldorf (at) vk-online/punkt/de.\nhtt
 ps://www.vk-online.de/events/rg-duesseldorf-jour-fixe-5/
URL:https://www.vk-online.de/events/rg-duesseldorf-jour-fixe-5/
END:VEVENT
END:VCALENDAR