BEGIN:VCALENDAR
VERSION:2.0
PRODID:-//eventon.com NONSGML v1.0//EN
CALSCALE:GREGORIAN
METHOD:PUBLISH
BEGIN:VEVENT
UID:69ed29e35388a
DTSTAMP:20260425T205355Z
DTSTART:20221106T200000Z
DTEND:20221106T225000Z
LOCATION:
SUMMARY:RG Dortmund: "Der Weg der Kohle" - Eine Aktivführung im Trainingsbergwerk der RAG Stiftung
DESCRIPTION:An diesem Sonntagnachmittag widmen wir uns der Montanvergangenh
 eit des Ruhrgebiets und werden aktiv am Kohlehobel und Walzenschrämmlader 
 im RAG-Trainingsbergwerk. Im Anschluß geht es zum Abendessen ins Boente in
  Recklinghausen. Die Verantstaltung ist nur für Dortmunder VK-Freunde. Wei
 tere Informationen unter dortmund (at) vk-online/punkt/de. &nbsp; &nbsp;\nh
 ttps://www.vk-online.de/events/rg-dortmund-der-weg-der-kohle-eine-aktivfueh
 rung-im-trainingsbergwerk-der-rag-stiftung/
URL:https://www.vk-online.de/events/rg-dortmund-der-weg-der-kohle-eine-aktivfuehrung-im-trainingsbergwerk-der-rag-stiftung/
END:VEVENT
END:VCALENDAR