BEGIN:VCALENDAR
VERSION:2.0
PRODID:-//eventon.com NONSGML v1.0//EN
CALSCALE:GREGORIAN
METHOD:PUBLISH
BEGIN:VEVENT
UID:69ecfe80b2298
DTSTAMP:20260425T174848Z
DTSTART:20221109T180000Z
DTEND:20221109T225000Z
LOCATION:
SUMMARY:RG Dortmund: Wie wollen wir in Dortmund leben? Aktionsplan der Stadt Dortmund
DESCRIPTION:Die Regionalgruppe Dortmund lädt ein zu einem Vortrag mit Thom
 as Löwer. Der Rat der Stadt Dortmund hat beschlossen\,  einen Aktionsplan 
 zur Akzeptanz von geschlechtlicher und sexueller Vielfalt für Dortmund zu 
 erarbeiten. Dieser Plan soll die Akzeptanz der Vielfalt von Lebensentwürfe
 n sowie die Gleichstellung von LSBTIQ* fördern. Eine Beteiligung der Dortm
 under[..]\nhttps://www.vk-online.de/events/rg-dortmund-die-neuen-konzepte-d
 es-slado-ein-abend-des-networkings/
URL:https://www.vk-online.de/events/rg-dortmund-die-neuen-konzepte-des-slado-ein-abend-des-networkings/
END:VEVENT
END:VCALENDAR