BEGIN:VCALENDAR
VERSION:2.0
PRODID:-//eventon.com NONSGML v1.0//EN
CALSCALE:GREGORIAN
METHOD:PUBLISH
BEGIN:VEVENT
UID:69ece90f6e009
DTSTAMP:20260425T161719Z
DTSTART:20221110T180000Z
DTEND:20221110T225000Z
LOCATION:
SUMMARY:RG Nürnberg: Networking
DESCRIPTION:Die Regionalgruppe Nürnberg lädt ein zum regelmäßigen Infor
 mationsaustausch und Networking. Die Veranstaltung ist offen für alle Mitg
 lieder. Weitere Informationen via nuernberg (at) vk-online/punkt/de.\nhttps
 ://www.vk-online.de/events/rg-nuernberg-networking/
URL:https://www.vk-online.de/events/rg-nuernberg-networking/
END:VEVENT
END:VCALENDAR