BEGIN:VCALENDAR
VERSION:2.0
PRODID:-//eventon.com NONSGML v1.0//EN
CALSCALE:GREGORIAN
METHOD:PUBLISH
BEGIN:VEVENT
UID:69eccfbf4d6d2
DTSTAMP:20260425T142919Z
DTSTART:20221115T183000Z
DTEND:20221115T225000Z
LOCATION:
SUMMARY:RG Rhein-Neckar: Networktreffen
DESCRIPTION:Die Regionalgruppe Rhein-Neckar lädt ein zum Informationsausta
 usch und Networking. Die Verantstaltung ist offen für alle Mitglieder. Wei
 tere Informationen unter rhein-neckar (at) vk-online/punkt/de.\nhttps://www
 .vk-online.de/events/rg-rhein-neckar-networktreffen/
URL:https://www.vk-online.de/events/rg-rhein-neckar-networktreffen/
END:VEVENT
END:VCALENDAR