BEGIN:VCALENDAR
VERSION:2.0
PRODID:-//eventon.com NONSGML v1.0//EN
CALSCALE:GREGORIAN
METHOD:PUBLISH
BEGIN:VEVENT
UID:69ec3be20e21f
DTSTAMP:20260425T035826Z
DTSTART:20220921T160000Z
DTEND:20220921T215000Z
LOCATION:
SUMMARY:RG Hannover: Einladung zum berufspolitischen Austausch mit Landtagskandidat*innen von SPD und Grüne
DESCRIPTION:An diesem Abend wollen wir uns über die Landtagswahl-Programme
  von Grünen und SPD austauschen. Dafür freuen wir uns auf Hanna Naber\,  
 MDL und Generalsekretärin der SPD Niedersachsen Julia Willie Hamburg\,  MD
 L\,  Fraktionsvorsitzende und damit Oppositionsführerin im Landtag Deutsch
 land wird menschlicher und produktiver\,  wenn Vielfalt im Beruf Wertschät
 zung statt Diskriminierung erfährt.[..]\nhttps://www.vk-online.de/events/r
 g-hannover-einladung-zum-berufspolitischen-austausch-mit-landtagskandidatin
 nen-von-spd-und-gruene/
URL:https://www.vk-online.de/events/rg-hannover-einladung-zum-berufspolitischen-austausch-mit-landtagskandidatinnen-von-spd-und-gruene/
END:VEVENT
END:VCALENDAR