BEGIN:VCALENDAR
VERSION:2.0
PRODID:-//eventon.com NONSGML v1.0//EN
CALSCALE:GREGORIAN
METHOD:PUBLISH
BEGIN:VEVENT
UID:69ec206d5ab30
DTSTAMP:20260425T020117Z
DTSTART:20221004T073000Z
DTEND:20221004T150000Z
LOCATION:München
SUMMARY:ULA/bdvb: Symposium 2022 - "Future of Work" in München
DESCRIPTION:Dies ist eine Veranstaltung des Bunds Deutscher Volks- und Betr
 iebswirte e. V. Mitglieder des Völklinger Kreis haben über das Netzwerk d
 es ULA-Dachverbands die Möglichkeit an ihr zum Vorzugspreis teilzunehmen. 
 Preisinformation: siehe weiter unten im Text. &nbsp; Zur Veranstaltung Wenn
  reale Anwendungen und virtuelle Räume zunehmend verschmelzen: Wie wird un
 sere Arbeit\, [..]\nhttps://www.vk-online.de/events/ula-bdvb-symposium-2022
 -future-of-work-in-muenchen/
URL:https://www.vk-online.de/events/ula-bdvb-symposium-2022-future-of-work-in-muenchen/
END:VEVENT
END:VCALENDAR