BEGIN:VCALENDAR
VERSION:2.0
PRODID:-//eventon.com NONSGML v1.0//EN
CALSCALE:GREGORIAN
METHOD:PUBLISH
BEGIN:VEVENT
UID:69ec2205277c4
DTSTAMP:20260425T020805Z
DTSTART:20220923T173000Z
DTEND:20220923T215000Z
LOCATION:
SUMMARY:RG Köln-Bonn: VK-Networking kulinarisch
DESCRIPTION:In diesem Monat verbinden wir das Networking und den Informatio
 nsaustausch unserer Regionalmitglieder mit kulinarischen Aspekten der authe
 ntisch chinesischen Küche\,  denn diese hat weit mehr zu Bieten als geback
 enes Hühnchen süß-sauer! Die Veranstaltung ist offen für alle Mitgliede
 r des Völklinger Kreis. Ebenfalls sind Gäste willkommen. Weitere Informat
 ionen zur Veranstaltung unter koeln-bonn[..]\nhttps://www.vk-online.de/even
 ts/rg-koeln-bonn-vk-kulinarisch/
URL:https://www.vk-online.de/events/rg-koeln-bonn-vk-kulinarisch/
END:VEVENT
END:VCALENDAR