BEGIN:VCALENDAR
VERSION:2.0
PRODID:-//eventon.com NONSGML v1.0//EN
CALSCALE:GREGORIAN
METHOD:PUBLISH
BEGIN:VEVENT
UID:69ebd5dd0ba48
DTSTAMP:20260424T204309Z
DTSTART:20220930T170000Z
DTEND:20220930T215000Z
LOCATION:
SUMMARY:RG Frankfurt: Jour Fixe zur Mitgliederversammlung
DESCRIPTION:In Erfurt gab es eine Generalaussprache bzgl. der Differenzen z
 wischen den aktuellen Vorstandsmitgliedern. Jeder Vorstand hat seine Positi
 on dargelegt und Stellung zu den Differenzen bezogen. Gerne würden wir Euc
 h im Vorfeld der Mitgliederversammlung über den Regionalrat in Erfurt und 
 die Details der Diskussion informieren. Eingeladen sind alle Mitglieder der
  Regionalgruppe[..]\nhttps://www.vk-online.de/events/rg-frankfurt-jour-fixe
 -zur-mitgliederversammlung/
URL:https://www.vk-online.de/events/rg-frankfurt-jour-fixe-zur-mitgliederversammlung/
END:VEVENT
END:VCALENDAR