BEGIN:VCALENDAR
VERSION:2.0
PRODID:-//eventon.com NONSGML v1.0//EN
CALSCALE:GREGORIAN
METHOD:PUBLISH
BEGIN:VEVENT
UID:69ebbd4a4067c
DTSTAMP:20260424T185818Z
DTSTART:20221001T110000Z
DTEND:20221001T215000Z
LOCATION:
SUMMARY:RG Rhein-Neckar: Hügelgrabwanderung
DESCRIPTION:Die Regionalgruppe Rhein-Neckar nutzt die Jahreszeit und verbin
 det das regelmäßige Networking-Treffen der Mitglieder mit einer Hügelgra
 bwanderung ab Heppenheim. Die Veranstaltung ist offen für alle Mitglieder 
 des Völklinger Kreis. Weitere Informationen unter rhein-neckar (at) vk-onl
 ine/punkt/de. &nbsp; &nbsp;\nhttps://www.vk-online.de/events/rg-rhein-necka
 r-huegelgrabwanderung/
URL:https://www.vk-online.de/events/rg-rhein-neckar-huegelgrabwanderung/
END:VEVENT
END:VCALENDAR