BEGIN:VCALENDAR
VERSION:2.0
PRODID:-//eventon.com NONSGML v1.0//EN
CALSCALE:GREGORIAN
METHOD:PUBLISH
BEGIN:VEVENT
UID:69e73f33c0895
DTSTAMP:20260421T091115Z
DTSTART:20221021T170000Z
DTEND:20221021T215000Z
LOCATION:
SUMMARY:RG Düsseldorf und FG Politik: Diskussionsrunde zu Gewalt gegen LGBTIQ*- Menschen
DESCRIPTION:Die Gewalttaten aus Münster und Bremen der letzten Tage sind n
 icht spurlos an uns vorbeigegangen. Neben Trauer und Wut\,  bewegen uns ein
 ige Fragen darüber\,  was in unserer Gesellschaft passiert. Steigt der Has
 s in der Bevölkerung\,  oder wird nur stärker sichtbar\,  was längst vor
 handen war? Und was können wir tun? Reicht[..]\nhttps://www.vk-online.de/e
 vents/rg-duesseldorf-und-fg-politik-diskussionsrunde-zu-gewalt-gegen-lgbtiq
 -menschen/
URL:https://www.vk-online.de/events/rg-duesseldorf-und-fg-politik-diskussionsrunde-zu-gewalt-gegen-lgbtiq-menschen/
END:VEVENT
END:VCALENDAR