BEGIN:VCALENDAR
VERSION:2.0
PRODID:-//eventon.com NONSGML v1.0//EN
CALSCALE:GREGORIAN
METHOD:PUBLISH
BEGIN:VEVENT
UID:69eb766aa3b10
DTSTAMP:20260424T135554Z
DTSTART:20221201T183000Z
DTEND:20221201T225000Z
LOCATION:
SUMMARY:RG Rhein-Neckar: Networking-Treffen
DESCRIPTION:Informationsaustausch und Networking. Die Veranstaltung ist off
 en für alle Mitglieder. Weitere Informationen unter: rhein-neckar (at) vk-
 online/punkt/de. &nbsp;\nhttps://www.vk-online.de/events/rg-rhein-neckar-ne
 tworking-treffen-2/
URL:https://www.vk-online.de/events/rg-rhein-neckar-networking-treffen-2/
END:VEVENT
END:VCALENDAR