BEGIN:VCALENDAR
VERSION:2.0
PRODID:-//eventon.com NONSGML v1.0//EN
CALSCALE:GREGORIAN
METHOD:PUBLISH
BEGIN:VEVENT
UID:69eb5c18310f3
DTSTAMP:20260424T120336Z
DTSTART:20221202T120000Z
DTEND:20221202T225000Z
LOCATION:
SUMMARY:RG Bremen: Networking zu Weihnachten
DESCRIPTION:Die Regionalgruppe Bremen lädt im Rahmen ihres regelmäßigen 
 Networkings zur diesjährigen Weihnachtsfeier. Die Veranstaltung ist offen 
 für alle Mitglieder. Um Voranmeldung wird gebeten. Weitere Informationen u
 nter: bremen (at) vk-online/punkt/de.\nhttps://www.vk-online.de/events/rg-b
 remen-networking-zu-weihnachten/
URL:https://www.vk-online.de/events/rg-bremen-networking-zu-weihnachten/
END:VEVENT
END:VCALENDAR