BEGIN:VCALENDAR
VERSION:2.0
PRODID:-//eventon.com NONSGML v1.0//EN
CALSCALE:GREGORIAN
METHOD:PUBLISH
BEGIN:VEVENT
UID:69eb45bcee321
DTSTAMP:20260424T102812Z
DTSTART:20221202T120000Z
DTEND:20221204T120000Z
LOCATION:
SUMMARY:RG Rhein-Neckar / FG International Business: Gemeinsame Tagung mit BASF-Führung
DESCRIPTION:Die Regionalgruppe Rhein-Neckar und die Fachgruppe Internationa
 l Business laden ein zur gemeinsamen Tagung inkl. einer Führung über das 
 BASF-Gelände in Ludwigshafen. Die Veranstaltung ist offen für alle Mitgli
 eder. Um Voranmeldung wird gebeten. Weitere Informationen zur Verantstaltun
 g unter: internationalbusiness (at) vk-online/punkt/de. &nbsp;\nhttps://www
 .vk-online.de/events/rg-rhein-neckar-fg-international-business-gemeinsame-t
 agung-mit-basf-fuehrung/
URL:https://www.vk-online.de/events/rg-rhein-neckar-fg-international-business-gemeinsame-tagung-mit-basf-fuehrung/
END:VEVENT
END:VCALENDAR