BEGIN:VCALENDAR
VERSION:2.0
PRODID:-//eventon.com NONSGML v1.0//EN
CALSCALE:GREGORIAN
METHOD:PUBLISH
BEGIN:VEVENT
UID:69eb2c6df381a
DTSTAMP:20260424T084013Z
DTSTART:20221207T190000Z
DTEND:20221207T225000Z
LOCATION:
SUMMARY:RG Düsseldorf: Jour Fixe
DESCRIPTION:Die Regionalgruppe Düsseldorf lädt zu ihrem regelmäßigen In
 formationsaustausch und Networking. Die Veranstaltung ist offen für alle M
 itglieder. Weiter Informationen zur Veranstaltung unter: duesseldorf (at) v
 k-online/punkt/de. &nbsp;\nhttps://www.vk-online.de/events/rg-duesseldorf-j
 our-fixe-7/
URL:https://www.vk-online.de/events/rg-duesseldorf-jour-fixe-7/
END:VEVENT
END:VCALENDAR