BEGIN:VCALENDAR
VERSION:2.0
PRODID:-//eventon.com NONSGML v1.0//EN
CALSCALE:GREGORIAN
METHOD:PUBLISH
BEGIN:VEVENT
UID:69e8657abafc2
DTSTAMP:20260422T060650Z
DTSTART:20221207T180000Z
DTEND:20221207T225000Z
LOCATION:
SUMMARY:RG Dortmund: Cobigolf\,  Sterngolf\,  Filzgolf - Ein Networking Treffen
DESCRIPTION:Die Regionalgruppe Dortmund lädt ein zum Networking im besonde
 ren Rahmen: Wir spielen in einer einzigartigen Indoorminigolf-3DSchwarzlich
 twelt. Die gesamte Anlage ist vom Boden über die Waende vollständig in st
 rahlend bunten Bildern gestaltet. Unsere 3D Brillen erwecken die drei Spiel
 welten Pandora\,  Zwergenheim und Weltall dabei mit fantastischen Effekten 
 zum Leben. Die Veranstaltung[..]\nhttps://www.vk-online.de/events/rg-dortmu
 nd-cobigolf-sterngolf-filzgolf-ein-networking-treffen/
URL:https://www.vk-online.de/events/rg-dortmund-cobigolf-sterngolf-filzgolf-ein-networking-treffen/
END:VEVENT
END:VCALENDAR