BEGIN:VCALENDAR
VERSION:2.0
PRODID:-//eventon.com NONSGML v1.0//EN
CALSCALE:GREGORIAN
METHOD:PUBLISH
BEGIN:VEVENT
UID:69e81f15de1be
DTSTAMP:20260422T010629Z
DTSTART:20221213T183000Z
DTEND:20221213T225000Z
LOCATION:
SUMMARY:RG Rhein-Neckar: Jour Fixe
DESCRIPTION:Die Regionalgruppe lädt zum regelmäßigen Informationsaustaus
 ch und Networking. Die Veranstaltung ist offen für alle Mitglieder. Weiter
 e Informationen unter: rhein-neckar (at) vk-online/punkt/de oder im Chapste
 r-Gruppenchat.\nhttps://www.vk-online.de/events/rg-rhein-neckar-jour-fixe-7
 /
URL:https://www.vk-online.de/events/rg-rhein-neckar-jour-fixe-7/
END:VEVENT
END:VCALENDAR