BEGIN:VCALENDAR
VERSION:2.0
PRODID:-//eventon.com NONSGML v1.0//EN
CALSCALE:GREGORIAN
METHOD:PUBLISH
BEGIN:VEVENT
UID:69e8072503beb
DTSTAMP:20260421T232421Z
DTSTART:20221214T180000Z
DTEND:20221214T225000Z
LOCATION:
SUMMARY:RG Dortmund: VK DO Cuvée - Networking
DESCRIPTION:Fünfte Auflage des Networkingformats der etwas anderen Art in 
 der RG Dortmund im Rahmen eines Plaudermeetings bei guten Tropfen und inter
 essanten Themen. Eingeladen sind alle Mitglieder der RG Dortmund. Weitere I
 nformationen unter: dortmund (at) vk-online/punkt/de. &nbsp; &nbsp;\nhttps:
 //www.vk-online.de/events/rg-dortmund-vk-do-cuvee-networking/
URL:https://www.vk-online.de/events/rg-dortmund-vk-do-cuvee-networking/
END:VEVENT
END:VCALENDAR