BEGIN:VCALENDAR
VERSION:2.0
PRODID:-//eventon.com NONSGML v1.0//EN
CALSCALE:GREGORIAN
METHOD:PUBLISH
BEGIN:VEVENT
UID:69e7f216ecffc
DTSTAMP:20260421T215430Z
DTSTART:20221221T180000Z
DTEND:20221221T225000Z
LOCATION:
SUMMARY:RG Düsseldorf: Jour Fixe
DESCRIPTION:Die Regionalgruppe lädt zum regelmäßigen Informationsaustaus
 ch und Networking. Die Veranstaltung ist offen für alle Mitglieder. Weiter
 e Informationen zur Veranstaltung unter: duesseldorf (at) vk-online/punkt/d
 e.\nhttps://www.vk-online.de/events/rg-duesseldorf-jour-fixe-8/
URL:https://www.vk-online.de/events/rg-duesseldorf-jour-fixe-8/
END:VEVENT
END:VCALENDAR