BEGIN:VCALENDAR
VERSION:2.0
PRODID:-//eventon.com NONSGML v1.0//EN
CALSCALE:GREGORIAN
METHOD:PUBLISH
BEGIN:VEVENT
UID:69e7948b74429
DTSTAMP:20260421T151523Z
DTSTART:20221031T180000Z
DTEND:20221031T225000Z
LOCATION:
SUMMARY:RG Berlin: Grüner Salon
DESCRIPTION:Der heutige Grüne Salon findet im Deutschen Architekturzentrum
  Berlin statt. Als Vortragende dürfen wir begrüßen: Wolfgang Voigt und U
 we Bresan. In ihrem neuen Buch Schwule Architekten. Verschwiegene Biografie
 n vom 18. bis zum 20. Jh. präsentieren die beiden Autoren prominente Biogr
 afien aus drei Jahrhunderten Architekturgeschichte\,  die entweder homosexu
 ell oder trans lebten[..]\nhttps://www.vk-online.de/events/rg-berlin-gruene
 r-salon-5/
URL:https://www.vk-online.de/events/rg-berlin-gruener-salon-5/
END:VEVENT
END:VCALENDAR