BEGIN:VCALENDAR
VERSION:2.0
PRODID:-//eventon.com NONSGML v1.0//EN
CALSCALE:GREGORIAN
METHOD:PUBLISH
BEGIN:VEVENT
UID:69e778e69e392
DTSTAMP:20260421T131726Z
DTSTART:20221104T180000Z
DTEND:20221104T225000Z
LOCATION:
SUMMARY:RG Köln-Bonn und FG Young Professionals: Get together
DESCRIPTION:Die Regionalgruppe Köln-Bonn und die Fachgruppe Young Professi
 onals treffen sich zu einem Get-Together: Informationsaustausch und Network
 ing. Die Veranstaltung ist offen für alle Mitglieder. Weitere Informatione
 n unter koeln-bonn (at) vk-online/punkt/de. &nbsp; &nbsp;\nhttps://www.vk-o
 nline.de/events/rg-koeln-bonn-und-fg-young-professionals-get-together/
URL:https://www.vk-online.de/events/rg-koeln-bonn-und-fg-young-professionals-get-together/
END:VEVENT
END:VCALENDAR