BEGIN:VCALENDAR
VERSION:2.0
PRODID:-//eventon.com NONSGML v1.0//EN
CALSCALE:GREGORIAN
METHOD:PUBLISH
BEGIN:VEVENT
UID:69e763dfa302a
DTSTAMP:20260421T114743Z
DTSTART:20221106T100000Z
DTEND:20221106T225000Z
LOCATION:
SUMMARY:RG Berlin: Networking-Brunch
DESCRIPTION:Die Regionalgruppe Berlin lädt zum Networking-Brunch im schön
 en Cafe Kalwil in der Motzstraße. Die Veranstaltung ist offen für alle Mi
 tglieder des Völklinger Kreis. Um Voranmeldung wird gebeten. Weitere Infor
 mationen unter berlin (at) vk-online/punkt/de. &nbsp; &nbsp;\nhttps://www.v
 k-online.de/events/rg-berlin-networking-brunch/
URL:https://www.vk-online.de/events/rg-berlin-networking-brunch/
END:VEVENT
END:VCALENDAR