BEGIN:VCALENDAR
VERSION:2.0
PRODID:-//eventon.com NONSGML v1.0//EN
CALSCALE:GREGORIAN
METHOD:PUBLISH
BEGIN:VEVENT
UID:69e7796211da5
DTSTAMP:20260421T131930Z
DTSTART:20221121T170000Z
DTEND:20221121T225000Z
LOCATION:
SUMMARY:Dachverband EPBN: ORAM Verein / Europride 2023 in Malta
DESCRIPTION:Das European Pride Business Network lädt ein zum Webinar. Vorg
 estellt werden der ORAM Verein\,  der sich für die Unterstützung von LGBT
 IQ*-Geflüchtete aus der Ukraine in Deutschland einsetzt als auch der aktue
 lle Stand zur EURO Pride 2023 in Malta. Die Veranstaltung ist offen für al
 le Mitglieder. Informationen und Einwahldaten über den[..]\nhttps://www.vk
 -online.de/events/dachverband-epbn-oram-verein-europride-2023-in-malta/
URL:https://www.vk-online.de/events/dachverband-epbn-oram-verein-europride-2023-in-malta/
END:VEVENT
END:VCALENDAR