BEGIN:VCALENDAR
VERSION:2.0
PRODID:-//eventon.com NONSGML v1.0//EN
CALSCALE:GREGORIAN
METHOD:PUBLISH
BEGIN:VEVENT
UID:69e78fd5d66b5
DTSTAMP:20260421T145517Z
DTSTART:20221124T180000Z
DTEND:20221124T225000Z
LOCATION:
SUMMARY:FG IT und Internet: Jour Fixe
DESCRIPTION:Die Fachgruppe IT und Internet trifft sich heute online zu ihre
 m Jour Fixe mit Informationsaustausch und Networking. Die Veranstaltung ist
  offen für alle Mitglieder. Es wird um verbindliche Anmeldung gebeten. Anm
 eldung und weitere Informationen unter IT (at) vk-online/punkt/de.\nhttps:/
 /www.vk-online.de/events/fg-it-und-internet-jour-fixe/
URL:https://www.vk-online.de/events/fg-it-und-internet-jour-fixe/
END:VEVENT
END:VCALENDAR