BEGIN:VCALENDAR
VERSION:2.0
PRODID:-//eventon.com NONSGML v1.0//EN
CALSCALE:GREGORIAN
METHOD:PUBLISH
BEGIN:VEVENT
UID:69e7a72b44760
DTSTAMP:20260421T163451Z
DTSTART:20221128T110000Z
DTEND:20221128T225000Z
LOCATION:
SUMMARY:RG Berlin: Grüner Salon
DESCRIPTION:Das Thema des heutigen Grünen Salons ist Gemeinwohl Ökonomie.
  Die Veranstaltung ist offen für alle Mitglieder. Weitere Informationen un
 d Anmeldung unter berlin (at) vk-online/punkt/de. &nbsp;\nhttps://www.vk-on
 line.de/events/rg-berlin-gruener-salon-6/
URL:https://www.vk-online.de/events/rg-berlin-gruener-salon-6/
END:VEVENT
END:VCALENDAR