BEGIN:VCALENDAR
VERSION:2.0
PRODID:-//eventon.com NONSGML v1.0//EN
CALSCALE:GREGORIAN
METHOD:PUBLISH
BEGIN:VEVENT
UID:69e7dc18082ac
DTSTAMP:20260421T202040Z
DTSTART:20230104T190000Z
DTEND:20230104T225000Z
LOCATION:
SUMMARY:RG Düsseldorf: Jour Fixe
DESCRIPTION:Die Regionalgruppe Düsseldorf lädt zum Informationsaustausch 
 und Networking. Die Veranstaltung ist offen für alle Mitglieder des VK. We
 itere Informationen und Anmeldung via duesseldorf (at) vk-online/punkt/de. 
 &nbsp; &nbsp;\nhttps://www.vk-online.de/events/rg-duesseldorf-jour-fixe-9/
URL:https://www.vk-online.de/events/rg-duesseldorf-jour-fixe-9/
END:VEVENT
END:VCALENDAR