BEGIN:VCALENDAR
VERSION:2.0
PRODID:-//eventon.com NONSGML v1.0//EN
CALSCALE:GREGORIAN
METHOD:PUBLISH
BEGIN:VEVENT
UID:69e7f275071f4
DTSTAMP:20260421T215605Z
DTSTART:20230104T183000Z
DTEND:20230104T225000Z
LOCATION:
SUMMARY:RG Köln-Bonn: Jour Fixe
DESCRIPTION:Die Regionalgruppe Köln-Bonn lädt zum Informationsaustausch u
 nd Networking. Die Veranstaltung ist offen für alle Mitglieder. Weitere In
 formationen zur Veranstaltung unter koeln-bonn (at) vk-online/punkt/de. &nb
 sp; &nbsp;\nhttps://www.vk-online.de/events/rg-koeln-bonn-jour-fixe-4/
URL:https://www.vk-online.de/events/rg-koeln-bonn-jour-fixe-4/
END:VEVENT
END:VCALENDAR