BEGIN:VCALENDAR
VERSION:2.0
PRODID:-//eventon.com NONSGML v1.0//EN
CALSCALE:GREGORIAN
METHOD:PUBLISH
BEGIN:VEVENT
UID:69e80af80bc22
DTSTAMP:20260421T234040Z
DTSTART:20230104T180000Z
DTEND:20230104T225000Z
LOCATION:
SUMMARY:RG Dortmund: Neujahrsnachlese / Vorbereitung Strukturmeeting
DESCRIPTION:Wir halten Rückschau auf die vergangenen 12 Monate und stoßen
  bei Prosecco und Schnittchen auf das neue Jahr an. Eingeladen sind alle Mi
 tglieder der Regionalgruppe Dortmund und deren Partner. Weitere Information
 en unter dortmund (at) vk-online/punkt/de.\nhttps://www.vk-online.de/events
 /rg-dortmund-neujahrsnachlese-vorbereitung-strukturmeeting/
URL:https://www.vk-online.de/events/rg-dortmund-neujahrsnachlese-vorbereitung-strukturmeeting/
END:VEVENT
END:VCALENDAR