BEGIN:VCALENDAR
VERSION:2.0
PRODID:-//eventon.com NONSGML v1.0//EN
CALSCALE:GREGORIAN
METHOD:PUBLISH
BEGIN:VEVENT
UID:69e8242ea01bc
DTSTAMP:20260422T012814Z
DTSTART:20230110T180000Z
DTEND:20230110T225000Z
LOCATION:
SUMMARY:RG Münster-Osnabrück: Networking
DESCRIPTION:Die Regionalgruppe Münster-Osnabrück lädt zum monatlichen In
 formationsaustausch und Networking. Die Veranstaltung ist offen für alle M
 itglieder. Weitere Informationen unter muenst-osnabrueck (at) vk-online/pun
 kt/de.\nhttps://www.vk-online.de/events/rg-muenster-osnabrueck-networking-2
 /
URL:https://www.vk-online.de/events/rg-muenster-osnabrueck-networking-2/
END:VEVENT
END:VCALENDAR