BEGIN:VCALENDAR
VERSION:2.0
PRODID:-//eventon.com NONSGML v1.0//EN
CALSCALE:GREGORIAN
METHOD:PUBLISH
BEGIN:VEVENT
UID:69e840d60b43a
DTSTAMP:20260422T033030Z
DTSTART:20230111T180000Z
DTEND:20230111T225000Z
LOCATION:
SUMMARY:RG Dortmund: VK DO Cuvée...
DESCRIPTION:Sechste Auflage des Networkingformats der etwas anderen Art in 
 der RG Dortmund im Rahmen eines Plaudermeetings bei guten Tropfen und inter
 essanten Themen. Die Veranstaltung ist offen für alle Mitglieder. Weitere 
 Informationen unter dortmund (at) vk-online/punkt/de.\nhttps://www.vk-onlin
 e.de/events/rg-dortmund-vk-do-cuvee-4/
URL:https://www.vk-online.de/events/rg-dortmund-vk-do-cuvee-4/
END:VEVENT
END:VCALENDAR