BEGIN:VCALENDAR
VERSION:2.0
PRODID:-//eventon.com NONSGML v1.0//EN
CALSCALE:GREGORIAN
METHOD:PUBLISH
BEGIN:VEVENT
UID:69e854e157964
DTSTAMP:20260422T045601Z
DTSTART:20230113T150000Z
DTEND:20230115T150000Z
LOCATION:
SUMMARY:FG Kleine Unternehmen: 10 Jahre "Kleine Unternehmen"
DESCRIPTION:Die Fachgruppe lädt ein zur Jubiläums-Tagung nach Frankfurt m
 it zahlreichen Impulsvorträgen. Die Veranstaltung ist offen für alle Mitg
 lieder des Völklinger Kreis. Weitere Informationen unter kleineunternehmen
  (at) vk-online/punkt/de.\nhttps://www.vk-online.de/events/fg-kleine-untern
 ehmen-10-jahre-kleine-unternehmen/
URL:https://www.vk-online.de/events/fg-kleine-unternehmen-10-jahre-kleine-unternehmen/
END:VEVENT
END:VCALENDAR