BEGIN:VCALENDAR
VERSION:2.0
PRODID:-//eventon.com NONSGML v1.0//EN
CALSCALE:GREGORIAN
METHOD:PUBLISH
BEGIN:VEVENT
UID:69e8693488638
DTSTAMP:20260422T062244Z
DTSTART:20230114T080000Z
DTEND:20230114T150000Z
LOCATION:
SUMMARY:RG Dortmund: Christo und Jeanne-Claude. Paris. New York. Grenzenlos. - Ein kultureller Vormittag
DESCRIPTION:Die Regionalgruppe besucht den Kunstpalast Düsseldorf. Die dor
 tige Ausstelllung zeichnet die kunsthistorische Entwicklung von Christo und
  Jeanne-Claude seit Mitte der 50er-Jahre bis heute nach und stellt das in F
 rankreich entstandene künstlerische frühe Schaffen im Kontext mit Arbeite
 n von Weggefährten vor. Die Veranstaltung ist offen für alle Mitglieder. 
 Um Anmeldung wird[..]\nhttps://www.vk-online.de/events/rg-dortmund-christo-
 und-jeanne-claude-paris-new-york-grenzenlos-ein-kultureller-vormittag/
URL:https://www.vk-online.de/events/rg-dortmund-christo-und-jeanne-claude-paris-new-york-grenzenlos-ein-kultureller-vormittag/
END:VEVENT
END:VCALENDAR