BEGIN:VCALENDAR
VERSION:2.0
PRODID:-//eventon.com NONSGML v1.0//EN
CALSCALE:GREGORIAN
METHOD:PUBLISH
BEGIN:VEVENT
UID:69e88051e0085
DTSTAMP:20260422T080121Z
DTSTART:20230118T180000Z
DTEND:20230118T225000Z
LOCATION:
SUMMARY:RG Düsseldorf: Jour Fixe
DESCRIPTION:Die Regionalgruppe Düsseldorf lädt zum Informationsaustausch 
 und Networking. Die Veranstaltung ist offen für alle Mitglieder. Weitere I
 nformationen unter duesseldorf (at) vk-online/punkt/de. &nbsp;\nhttps://www
 .vk-online.de/events/rg-duesseldorf-jour-fixe-10/
URL:https://www.vk-online.de/events/rg-duesseldorf-jour-fixe-10/
END:VEVENT
END:VCALENDAR