BEGIN:VCALENDAR
VERSION:2.0
PRODID:-//eventon.com NONSGML v1.0//EN
CALSCALE:GREGORIAN
METHOD:PUBLISH
BEGIN:VEVENT
UID:69eb2d14cab79
DTSTAMP:20260424T084300Z
DTSTART:20230118T180000Z
DTEND:20230118T225000Z
LOCATION:
SUMMARY:RG Dortmund: Wer macht wann was? - Strukturmeeting 2023
DESCRIPTION:Die Regionalgruppe Dortmund lÃ¤dt zum Strukturmeeting . Die RKÂ
 ´s legen den Programmentwurf fÃ¼r das neue Jahr vor\,  die RR-Sprecher und 
 der Vorstand berichten von aktuellen Projekten. Eingeladen sind alle Mitgli
 eder der Regionalgruppe Dortmund. Weitere Informationen unter dortmund (at)
  vk-online/punkt/de. &nbsp;\nhttps://www.vk-online.de/events/rg-dortmund-we
 r-macht-wann-was-strukturmeeting-2023/
URL:https://www.vk-online.de/events/rg-dortmund-wer-macht-wann-was-strukturmeeting-2023/
END:VEVENT
END:VCALENDAR