BEGIN:VCALENDAR
VERSION:2.0
PRODID:-//eventon.com NONSGML v1.0//EN
CALSCALE:GREGORIAN
METHOD:PUBLISH
BEGIN:VEVENT
UID:69e8af6d189bb
DTSTAMP:20260422T112221Z
DTSTART:20230130T180000Z
DTEND:20230130T225000Z
LOCATION:
SUMMARY:RG Berlin: Grüner Salon - Cyberkriminalität
DESCRIPTION:Die Regionalgruppe Berlin lädt in den Grünen Salon. Heutiges 
 Thema: Cyberkriminalität Die Veranstaltung ist offen für alle Mitglieder.
  Um Anmeldung wird gebeten. Weitere Informationen unter berlin (at) vk-onli
 ne/punkt/de.\nhttps://www.vk-online.de/events/rg-berlin-gruener-salon-7/
URL:https://www.vk-online.de/events/rg-berlin-gruener-salon-7/
END:VEVENT
END:VCALENDAR