BEGIN:VCALENDAR
VERSION:2.0
PRODID:-//eventon.com NONSGML v1.0//EN
CALSCALE:GREGORIAN
METHOD:PUBLISH
BEGIN:VEVENT
UID:69e8c60b6de5d
DTSTAMP:20260422T125851Z
DTSTART:20230107T120000Z
DTEND:20230107T225000Z
LOCATION:
SUMMARY:RG Rhein-Neckar: Neujahrswanderung
DESCRIPTION:Networking und Erfahrungsaustausch. Unsere diesjährige Neujahr
 swanderung führen wir zusammen mit den schwulen Männern der Pfalz-Odenwal
 d-Wanderer durch. Die Veranstaltung ist offen für alle Mitglieder des Völ
 klinger Kreis. Weitere Informationen und Anmeldung: Kontakt siehe Veranstal
 ter\nhttps://www.vk-online.de/events/rg-rhein-neckar-neujahrswanderung/
URL:https://www.vk-online.de/events/rg-rhein-neckar-neujahrswanderung/
END:VEVENT
END:VCALENDAR