BEGIN:VCALENDAR
VERSION:2.0
PRODID:-//eventon.com NONSGML v1.0//EN
CALSCALE:GREGORIAN
METHOD:PUBLISH
BEGIN:VEVENT
UID:69e8da73c9b52
DTSTAMP:20260422T142555Z
DTSTART:20230111T180000Z
DTEND:20230111T225000Z
LOCATION:
SUMMARY:RG MÃ¼nchen: FÃ¼hrung durch JR: Chronicles - Kunsthalle MÃ¼nchen
DESCRIPTION:Mitglieder des VÃ¶lklinger Kreis sind eingeladen\,  an einer FÃ
 ¼hrung durch die Ausstellung &#8222;JR: Chronicles&#8220; in der Kunsthalle
  MÃ¼nchen teilzunehmen. Dies ist die bis dato grÃ¶ÃŸte Einzelausstellung de
 s KÃ¼nstlers JR. Der Direktor der Kunsthalle\,  Roger Diederen\,  wird durc
 h die Ausstellung fÃ¼hren. Die Veranstaltung ist offen fÃ¼r alle Mitglieder
  des VÃ¶lklinger Kreis.[..]\nhttps://www.vk-online.de/events/rg-muenchen-fu
 ehrung-durch-jr-chronicles-kunsthalle-muenchen/
URL:https://www.vk-online.de/events/rg-muenchen-fuehrung-durch-jr-chronicles-kunsthalle-muenchen/
END:VEVENT
END:VCALENDAR