BEGIN:VCALENDAR
VERSION:2.0
PRODID:-//eventon.com NONSGML v1.0//EN
CALSCALE:GREGORIAN
METHOD:PUBLISH
BEGIN:VEVENT
UID:69e8f47a19ce9
DTSTAMP:20260422T161658Z
DTSTART:20230112T180000Z
DTEND:20230112T225000Z
LOCATION:
SUMMARY:RG Nürnberg: Monatsmeeting Januar
DESCRIPTION:Regelmäßiges Treffen der Regionalgruppe Nürnberg. Die Verans
 taltung ist offen für alle Mitglieder des Völklinger Kreis. Weitere Infor
 mationen und Anmeldung: Kontakt siehe Veranstalter weiter unten.\nhttps://w
 ww.vk-online.de/events/rg-nuernberg-monatsmeeting-januar/
URL:https://www.vk-online.de/events/rg-nuernberg-monatsmeeting-januar/
END:VEVENT
END:VCALENDAR