BEGIN:VCALENDAR
VERSION:2.0
PRODID:-//eventon.com NONSGML v1.0//EN
CALSCALE:GREGORIAN
METHOD:PUBLISH
BEGIN:VEVENT
UID:69e9083d0e7a0
DTSTAMP:20260422T174117Z
DTSTART:20230112T183000Z
DTEND:20230112T225000Z
LOCATION:
SUMMARY:RG Rhein-Neckar: Monatsmeeting
DESCRIPTION:Networking und Erfahrungsaustausch. Regelmäßiges Treffen der 
 Regionalgruppe Rhein-Neckar. Die Veranstaltung ist offen für alle Mitglied
 er des Völklinger Kreis. Weitere Informationen und Anmeldung: Kontakt sieh
 e Veranstalter weiter unten.\nhttps://www.vk-online.de/events/rg-rhein-neck
 ar-monatsmeeting/
URL:https://www.vk-online.de/events/rg-rhein-neckar-monatsmeeting/
END:VEVENT
END:VCALENDAR