BEGIN:VCALENDAR
VERSION:2.0
PRODID:-//eventon.com NONSGML v1.0//EN
CALSCALE:GREGORIAN
METHOD:PUBLISH
BEGIN:VEVENT
UID:69eb2d09b8d31
DTSTAMP:20260424T084249Z
DTSTART:20230114T150000Z
DTEND:20230114T225000Z
LOCATION:
SUMMARY:RG Mainz-Wiesbaden: Strukturmeeting
DESCRIPTION:Themen u.a.: Neuwahl der RKs\,  &#8222;Diverse City Mainz-Wiesb
 aden&#8220;\,  Planungen der Aktivitäten 2023 Die Veranstaltung ist offen 
 für alle Mitglieder des Völklinger Kreis. Weitere Informationen und Anmel
 dung: Kontakt siehe Veranstalter weiter unten.\nhttps://www.vk-online.de/ev
 ents/rg-mainz-wiesbaden-strukturmeeting-2/
URL:https://www.vk-online.de/events/rg-mainz-wiesbaden-strukturmeeting-2/
END:VEVENT
END:VCALENDAR