BEGIN:VCALENDAR
VERSION:2.0
PRODID:-//eventon.com NONSGML v1.0//EN
CALSCALE:GREGORIAN
METHOD:PUBLISH
BEGIN:VEVENT
UID:69e7382f3b24a
DTSTAMP:20260421T084119Z
DTSTART:20230322T150000Z
DTEND:20230322T225000Z
LOCATION:
SUMMARY:FG Gesundheit und Soziales: Neuausrichtung der FG
DESCRIPTION:Online-Meeting zur Diskussion und Entscheidung einer Neuausrich
 tung der Fachgruppe. Die Veranstaltung ist beschränkt auf Mitglieder der F
 achgruppe. Weitere Informationen und Anmeldung unter gesundheit (at) vk-onl
 ine/punkt/de\nhttps://www.vk-online.de/events/fg-gesundheit-und-soziales-ne
 uausrichtung-der-fg/
URL:https://www.vk-online.de/events/fg-gesundheit-und-soziales-neuausrichtung-der-fg/
END:VEVENT
END:VCALENDAR