BEGIN:VCALENDAR
VERSION:2.0
PRODID:-//eventon.com NONSGML v1.0//EN
CALSCALE:GREGORIAN
METHOD:PUBLISH
BEGIN:VEVENT
UID:69e73202e9973
DTSTAMP:20260421T081458Z
DTSTART:20230330T173000Z
DTEND:20230330T215000Z
LOCATION:
SUMMARY:FG Kultur- und Kreativwirtschaft: Strukturmeeting
DESCRIPTION:Die Fachgruppe Kunst und Kultur hat sich umbenannt in Fachgrupp
 e Kultur- und Kreativwirtschaft. Diese hat nun ihr ersten Strukturmeeting n
 ach der Umbenennung. Weitere Informationen unter (noch) kunst-kultur (at) v
 k-online/punkt/de.\nhttps://www.vk-online.de/events/fg-kultur-und-kreativwi
 rtschaft-strukturmeeting/
URL:https://www.vk-online.de/events/fg-kultur-und-kreativwirtschaft-strukturmeeting/
END:VEVENT
END:VCALENDAR