BEGIN:VCALENDAR
VERSION:2.0
PRODID:-//eventon.com NONSGML v1.0//EN
CALSCALE:GREGORIAN
METHOD:PUBLISH
BEGIN:VEVENT
UID:69e7376b576d5
DTSTAMP:20260421T083803Z
DTSTART:20230818T173000Z
DTEND:20230818T215000Z
LOCATION:
SUMMARY:RG Köln-Bonn: VK kulinarisch
DESCRIPTION:Networking bei &#8222;Fine Dining&#8220;. Die Veranstaltung ist
  offen für alle Mitglieder des VK. Weitere Informationen und Anmeldung unt
 er koeln-bonn (at) vk-online/punkt/de. &nbsp; &nbsp;\nhttps://www.vk-online
 .de/events/rg-koeln-bonn-vk-kulinarisch-4/
URL:https://www.vk-online.de/events/rg-koeln-bonn-vk-kulinarisch-4/
END:VEVENT
END:VCALENDAR