BEGIN:VCALENDAR
VERSION:2.0
PRODID:-//eventon.com NONSGML v1.0//EN
CALSCALE:GREGORIAN
METHOD:PUBLISH
BEGIN:VEVENT
UID:69e7382f54ae9
DTSTAMP:20260421T084119Z
DTSTART:20231201T180000Z
DTEND:20231201T225000Z
LOCATION:
SUMMARY:RG Hamburg: Stammtisch der Regionalgruppe
DESCRIPTION:Die Regionalgruppe Hamburg lädt zum &#8222;Stammtisch&#8220; m
 it Erfahrungsaustausch und Networking. Die Veranstaltung ist offen für all
 e Mitglieder des Völklinger Kreis. Weitere Informationen via: siehe Verans
 talter.\nhttps://www.vk-online.de/events/rg-hamburg-stammtisch-der-regional
 gruppe/
URL:https://www.vk-online.de/events/rg-hamburg-stammtisch-der-regionalgruppe/
END:VEVENT
END:VCALENDAR