BEGIN:VCALENDAR
VERSION:2.0
PRODID:-//eventon.com NONSGML v1.0//EN
CALSCALE:GREGORIAN
METHOD:PUBLISH
BEGIN:VEVENT
UID:69e73475cdb5e
DTSTAMP:20260421T082525Z
DTSTART:20231207T180000Z
DTEND:20231207T225000Z
LOCATION:
SUMMARY:RG Mainz-Wiesbaden: Jour Fixe
DESCRIPTION:Netzwerken und Socializing in entspannter  Atmosphäre. &nbsp;
  Die Veranstaltung ist offen für alle Mitglieder des Völklinger Kreis. We
 itere Informationen via: siehe Veranstalter.\nhttps://www.vk-online.de/even
 ts/rg-mainz-wiesbaden-jour-fixe-2/
URL:https://www.vk-online.de/events/rg-mainz-wiesbaden-jour-fixe-2/
END:VEVENT
END:VCALENDAR