BEGIN:VCALENDAR
VERSION:2.0
PRODID:-//eventon.com NONSGML v1.0//EN
CALSCALE:GREGORIAN
METHOD:PUBLISH
BEGIN:VEVENT
UID:69e7385a31b76
DTSTAMP:20260421T084202Z
DTSTART:20231230T120000Z
DTEND:20231230T225000Z
LOCATION:
SUMMARY:RG Bremen: RG & Friends
DESCRIPTION:Zwangloses Networkingtreffen. Die Veranstaltung ist offen für 
 alle Mitglieder des Völklinger Kreis. Weitere Informationen und Anmeldung:
  Kontakt siehe Veranstalter weiter unten.\nhttps://www.vk-online.de/events/
 rg-bremen-rg-friends-33/
URL:https://www.vk-online.de/events/rg-bremen-rg-friends-33/
END:VEVENT
END:VCALENDAR